BEGIN:VCALENDAR
VERSION:2.0
PRODID:-//Musikverein Berkheim e.V. - ECPv6.15.20//NONSGML v1.0//EN
CALSCALE:GREGORIAN
METHOD:PUBLISH
X-WR-CALNAME:Musikverein Berkheim e.V.
X-ORIGINAL-URL:https://www.mvberkheim.de
X-WR-CALDESC:Veranstaltungen für Musikverein Berkheim e.V.
REFRESH-INTERVAL;VALUE=DURATION:PT1H
X-Robots-Tag:noindex
X-PUBLISHED-TTL:PT1H
BEGIN:VTIMEZONE
TZID:Europe/Berlin
BEGIN:DAYLIGHT
TZOFFSETFROM:+0100
TZOFFSETTO:+0200
TZNAME:CEST
DTSTART:20250330T010000
END:DAYLIGHT
BEGIN:STANDARD
TZOFFSETFROM:+0200
TZOFFSETTO:+0100
TZNAME:CET
DTSTART:20251026T010000
END:STANDARD
BEGIN:DAYLIGHT
TZOFFSETFROM:+0100
TZOFFSETTO:+0200
TZNAME:CEST
DTSTART:20260329T010000
END:DAYLIGHT
BEGIN:STANDARD
TZOFFSETFROM:+0200
TZOFFSETTO:+0100
TZNAME:CET
DTSTART:20261025T010000
END:STANDARD
BEGIN:DAYLIGHT
TZOFFSETFROM:+0100
TZOFFSETTO:+0200
TZNAME:CEST
DTSTART:20270328T010000
END:DAYLIGHT
BEGIN:STANDARD
TZOFFSETFROM:+0200
TZOFFSETTO:+0100
TZNAME:CET
DTSTART:20271031T010000
END:STANDARD
END:VTIMEZONE
BEGIN:VEVENT
DTSTART;TZID=Europe/Berlin:20260627T170000
DTEND;TZID=Europe/Berlin:20260628T210000
DTSTAMP:20260422T174340
CREATED:20260304T120407Z
LAST-MODIFIED:20260304T120407Z
UID:1361-1782579600-1782680400@www.mvberkheim.de
SUMMARY:Hocketse / Sommerfest MVB
DESCRIPTION:
URL:https://www.mvberkheim.de/event/hocketse-sommerfest-mvb/
LOCATION:Hartplatz an der Osterfeldhalle\, Köngener Straße 51\, Esslingen am Neckar\, Baden-Württemberg\, 73734\, Deutschland
CATEGORIES:Hocketse,Unterhaltung
ORGANIZER;CN="Musikverein Berkheim e.V.":MAILTO:info@mvberkheim.de
END:VEVENT
END:VCALENDAR